BEGIN:VCALENDAR
VERSION:2.0
PRODID:-//St. Timothy’s Episcopal Church - ECPv6.15.20//NONSGML v1.0//EN
CALSCALE:GREGORIAN
METHOD:PUBLISH
X-ORIGINAL-URL:https://sttims.org
X-WR-CALDESC:Events for St. Timothy’s Episcopal Church
REFRESH-INTERVAL;VALUE=DURATION:PT1H
X-Robots-Tag:noindex
X-PUBLISHED-TTL:PT1H
BEGIN:VTIMEZONE
TZID:America/Los_Angeles
BEGIN:DAYLIGHT
TZOFFSETFROM:-0800
TZOFFSETTO:-0700
TZNAME:PDT
DTSTART:20250309T100000
END:DAYLIGHT
BEGIN:STANDARD
TZOFFSETFROM:-0700
TZOFFSETTO:-0800
TZNAME:PST
DTSTART:20251102T090000
END:STANDARD
BEGIN:DAYLIGHT
TZOFFSETFROM:-0800
TZOFFSETTO:-0700
TZNAME:PDT
DTSTART:20260308T100000
END:DAYLIGHT
BEGIN:STANDARD
TZOFFSETFROM:-0700
TZOFFSETTO:-0800
TZNAME:PST
DTSTART:20261101T090000
END:STANDARD
BEGIN:DAYLIGHT
TZOFFSETFROM:-0800
TZOFFSETTO:-0700
TZNAME:PDT
DTSTART:20270314T100000
END:DAYLIGHT
BEGIN:STANDARD
TZOFFSETFROM:-0700
TZOFFSETTO:-0800
TZNAME:PST
DTSTART:20271107T090000
END:STANDARD
END:VTIMEZONE
BEGIN:VEVENT
DTSTART;TZID=America/Los_Angeles:20260422T173000
DTEND;TZID=America/Los_Angeles:20260422T190000
DTSTAMP:20260420T042154
CREATED:20260331T181052Z
LAST-MODIFIED:20260331T181052Z
UID:559-1776879000-1776884400@sttims.org
SUMMARY:April Wednesday Night Dinner
DESCRIPTION:Join us for a potluck dinner on Wednesday\, April 22 in the Courtyard or Edwards Hall (depending on weather). All are welcome\, with the blessing and sharing of food at 5:30pm. If you want to come early to play board games or complete homework\, the Guild room will be open at 5pm. Please bring a dish to share and\, if you can\, please come a little early or stay a little after to help with setup / cleanup. Visitors and guests warmly encouraged!
URL:https://sttims.org/event/april-wednesday-night-dinner/
LOCATION:CA
CATEGORIES:Community Events,Featured
ATTACH;FMTTYPE=image/jpeg:https://sttims.org/wp-content/uploads/2026/03/WND-2-2025.jpg
END:VEVENT
END:VCALENDAR