BEGIN:VCALENDAR
VERSION:2.0
PRODID:-//St. Timothy’s Episcopal Church - ECPv6.15.20//NONSGML v1.0//EN
CALSCALE:GREGORIAN
METHOD:PUBLISH
X-ORIGINAL-URL:https://sttims.org
X-WR-CALDESC:Events for St. Timothy’s Episcopal Church
REFRESH-INTERVAL;VALUE=DURATION:PT1H
X-Robots-Tag:noindex
X-PUBLISHED-TTL:PT1H
BEGIN:VTIMEZONE
TZID:America/Los_Angeles
BEGIN:DAYLIGHT
TZOFFSETFROM:-0800
TZOFFSETTO:-0700
TZNAME:PDT
DTSTART:20250309T100000
END:DAYLIGHT
BEGIN:STANDARD
TZOFFSETFROM:-0700
TZOFFSETTO:-0800
TZNAME:PST
DTSTART:20251102T090000
END:STANDARD
BEGIN:DAYLIGHT
TZOFFSETFROM:-0800
TZOFFSETTO:-0700
TZNAME:PDT
DTSTART:20260308T100000
END:DAYLIGHT
BEGIN:STANDARD
TZOFFSETFROM:-0700
TZOFFSETTO:-0800
TZNAME:PST
DTSTART:20261101T090000
END:STANDARD
BEGIN:DAYLIGHT
TZOFFSETFROM:-0800
TZOFFSETTO:-0700
TZNAME:PDT
DTSTART:20270314T100000
END:DAYLIGHT
BEGIN:STANDARD
TZOFFSETFROM:-0700
TZOFFSETTO:-0800
TZNAME:PST
DTSTART:20271107T090000
END:STANDARD
END:VTIMEZONE
BEGIN:VEVENT
DTSTART;TZID=America/Los_Angeles:20260420T190000
DTEND;TZID=America/Los_Angeles:20260420T200000
DTSTAMP:20260422T015149
CREATED:20260331T175728Z
LAST-MODIFIED:20260331T175728Z
UID:558-1776711600-1776715200@sttims.org
SUMMARY:Prayer Journey
DESCRIPTION:All are invited to join us for an hour of prayer. Each month\, this group tries out different prayer styles and practices. You’re welcome to try it out once or come regularly! In the nave (the main church space).
URL:https://sttims.org/event/prayer-journey-2/
CATEGORIES:Adult Formation,Featured
ATTACH;FMTTYPE=image/jpeg:https://sttims.org/wp-content/uploads/2026/01/prayer-table-scaled.jpg
END:VEVENT
BEGIN:VEVENT
DTSTART;TZID=America/Los_Angeles:20260422T173000
DTEND;TZID=America/Los_Angeles:20260422T190000
DTSTAMP:20260422T015149
CREATED:20260331T181052Z
LAST-MODIFIED:20260331T181052Z
UID:559-1776879000-1776884400@sttims.org
SUMMARY:April Wednesday Night Dinner
DESCRIPTION:Join us for a potluck dinner on Wednesday\, April 22 in the Courtyard or Edwards Hall (depending on weather). All are welcome\, with the blessing and sharing of food at 5:30pm. If you want to come early to play board games or complete homework\, the Guild room will be open at 5pm. Please bring a dish to share and\, if you can\, please come a little early or stay a little after to help with setup / cleanup. Visitors and guests warmly encouraged!
URL:https://sttims.org/event/april-wednesday-night-dinner/
CATEGORIES:Community Events,Featured
ATTACH;FMTTYPE=image/jpeg:https://sttims.org/wp-content/uploads/2026/03/WND-2-2025.jpg
END:VEVENT
BEGIN:VEVENT
DTSTART;TZID=America/Los_Angeles:20260426T163000
DTEND;TZID=America/Los_Angeles:20260426T190000
DTSTAMP:20260422T015149
CREATED:20260421T200204Z
LAST-MODIFIED:20260421T200204Z
UID:585-1777221000-1777230000@sttims.org
SUMMARY:Youth Service Event
DESCRIPTION:April 26th: 4:30 to 7: Our year together is coming to a close.  Let’s give thanks for all the pizza we’ve eaten together this year by filling the little free pantry together.  For our last youth night of the year\, we will gather under the oak tree at St. Tims at 4:30\, and head to smart and final to do some little free pantry shopping together.  When we get back to church we’ll have a chance to reflect over our own dinner. \nPlease sign up here\, by Thursday the 23rd\, so that we know you are coming. If one of you are up for making dinner\, please let me know.  It would be great to have some help with that.  Because we are going off site\, we will have permission slips for this event.  I’ll have some Sunday and there is a link to the permission slip on the sign up doc. \n  \nApril 26th: 4:00 to 4:30:  This is for all singers. Little siblings\, friends\, and grandparents. We’ll sing together and work on a piece for Pentecost.  We will be gathering and singing in the church nave this time.
URL:https://sttims.org/event/youth-service-event/
CATEGORIES:Featured,Youth
ATTACH;FMTTYPE=image/jpeg:https://sttims.org/wp-content/uploads/2026/04/IMG_0362-scaled.jpeg
END:VEVENT
BEGIN:VEVENT
DTSTART;TZID=America/Los_Angeles:20260514T173000
DTEND;TZID=America/Los_Angeles:20260514T190000
DTSTAMP:20260422T015149
CREATED:20260331T182042Z
LAST-MODIFIED:20260331T182132Z
UID:561-1778779800-1778785200@sttims.org
SUMMARY:Ascension Day Hike
DESCRIPTION:We will celebrate the Feast of the Ascension on Thursday\, May 14 by ascending the “mountain” at Rancho San Antonio Park! (Really\, it’s a short hike up a small hill\, less than 1 mile.) We’ll leave parking lot 1 at 5:30pm\, head up Coyote Trail\, celebrate Eucharist together\, and enjoy a bring-your-own-dinner picnic. All ages are welcome (most of it is accessible by stroller\, and there’s always help to get little ones up to our picnic spot).
URL:https://sttims.org/event/ascension-day-hike-2026/
LOCATION:rancho san antonio\, 22500 Cristo Rey Drive\, Cupertino\, CA\, 95014\, United States
CATEGORIES:Featured
ATTACH;FMTTYPE=image/jpeg:https://sttims.org/wp-content/uploads/2026/03/ascension-hike-1-2025-scaled.jpg
END:VEVENT
END:VCALENDAR